BEGIN:VCALENDAR
VERSION:2.0
PRODID:icalendar-ruby
CALSCALE:GREGORIAN
METHOD:PUBLISH
BEGIN:VEVENT
DTSTAMP:20260425T152152Z
UID:342-1037610@stdavidsorillia.org
DTSTART:20260628T140000Z
DTEND:20260628T150000Z
CLASS:PUBLIC
CREATED:20260424T152901
DESCRIPTION:Join us in person on or Zoom using this link: \nhttps://us02we
 b.zoom.us/j/83711968911?pwd=Z3A5aFNzZzVqdk84UG5saHBpN09LZz09
LAST-MODIFIED:20260424T152901
LOCATION:St. James Upper Room
SUMMARY:Worship
URL;VALUE=URI:https://www.stdavidsorillia.org/events/worship--342/2026-06-2
 8
ATTACH;FILENAME=On-the-Road-to-Emmaus.jpg;FMTTYPE=image/jpeg:https://dq5pwp
 g1q8ru0.cloudfront.net/2026/04/24/19/27/49/cce33a12-08a0-40a6-abd9-f579d4b
 777a2/On-the-Road-to-Emmaus.jpg
END:VEVENT
END:VCALENDAR
